{
 "currentVersion": 10.81,
 "cimVersion": "2.8.0",
 "serviceDescription": "",
 "mapName": "Map",
 "description": "",
 "copyrightText": "",
 "supportsDynamicLayers": false,
 "layers": [
  {
   "id": 0,
   "name": "c10022022_Serang_KaryaMuda_C",
   "parentLayerId": -1,
   "defaultVisibility": true,
   "subLayerIds": null,
   "minScale": 0,
   "maxScale": 0,
   "type": "Raster Layer",
   "supportsDynamicLegends": true
  }
 ],
 "tables": [],
 "spatialReference": {
  "wkid": 54034,
  "latestWkid": 54034,
  "xyTolerance": 0.001,
  "zTolerance": 0.001,
  "mTolerance": 0.001,
  "falseX": -20037700,
  "falseY": -6364000,
  "xyUnits": 10000,
  "falseZ": -100000,
  "zUnits": 10000,
  "falseM": -100000,
  "mUnits": 10000
 },
 "singleFusedMapCache": true,
 "tileInfo": {
  "rows": 256,
  "cols": 256,
  "dpi": 96,
  "format": "Mixed",
  "compressionQuality": 75,
  "origin": {
   "x": -2.0037507842788246E7,
   "y": 2.0037507842788246E7
  },
  "spatialReference": {
   "wkid": 54034,
   "latestWkid": 54034,
   "xyTolerance": 0.001,
   "zTolerance": 0.001,
   "mTolerance": 0.001,
   "falseX": -20037700,
   "falseY": -6364000,
   "xyUnits": 10000,
   "falseZ": -100000,
   "zUnits": 10000,
   "falseM": -100000,
   "mUnits": 10000
  },
  "lods": [
   {
    "level": 0,
    "resolution": 156543.03002178317,
    "scale": 5.916586961453222E8
   },
   {
    "level": 1,
    "resolution": 78271.51501089158,
    "scale": 2.958293480726611E8
   },
   {
    "level": 2,
    "resolution": 39135.75750544579,
    "scale": 1.4791467403633055E8
   },
   {
    "level": 3,
    "resolution": 19567.878752722896,
    "scale": 7.395733701816528E7
   },
   {
    "level": 4,
    "resolution": 9783.939376361448,
    "scale": 3.697866850908264E7
   },
   {
    "level": 5,
    "resolution": 4891.969688180724,
    "scale": 1.848933425454132E7
   },
   {
    "level": 6,
    "resolution": 2445.984844090362,
    "scale": 9244667.12727066
   },
   {
    "level": 7,
    "resolution": 1222.992422045181,
    "scale": 4622333.56363533
   },
   {
    "level": 8,
    "resolution": 611.4962110225905,
    "scale": 2311166.781817665
   },
   {
    "level": 9,
    "resolution": 305.74810551129525,
    "scale": 1155583.3909088324
   },
   {
    "level": 10,
    "resolution": 152.87405275564763,
    "scale": 577791.6954544162
   },
   {
    "level": 11,
    "resolution": 76.43702637782381,
    "scale": 288895.8477272081
   },
   {
    "level": 12,
    "resolution": 38.218513188911906,
    "scale": 144447.92386360405
   },
   {
    "level": 13,
    "resolution": 19.109256594455953,
    "scale": 72223.96193180203
   },
   {
    "level": 14,
    "resolution": 9.554628297227977,
    "scale": 36111.98096590101
   },
   {
    "level": 15,
    "resolution": 4.777314148613988,
    "scale": 18055.990482950507
   },
   {
    "level": 16,
    "resolution": 2.388657074306994,
    "scale": 9027.995241475253
   },
   {
    "level": 17,
    "resolution": 1.194328537153497,
    "scale": 4513.997620737627
   },
   {
    "level": 18,
    "resolution": 0.5971642685767485,
    "scale": 2256.9988103688133
   }
  ]
 },
 "initialExtent": {
  "xmin": 1.1789895649061205E7,
  "ymin": -682455.0147349492,
  "xmax": 1.1792186053743431E7,
  "ymax": -681060.8553631587,
  "spatialReference": {
   "cs": "pcs",
   "wkid": 54034
  }
 },
 "fullExtent": {
  "xmin": 1.1789854201714177E7,
  "ymin": -681883.542776555,
  "xmax": 1.1791761169268088E7,
  "ymax": -680548.6885198096,
  "spatialReference": {
   "cs": "pcs",
   "wkid": 54034
  }
 },
 "units": "esriMeters",
 "supportedImageFormatTypes": "PNG32,PNG24,PNG,JPG,DIB,TIFF,EMF,PS,PDF,GIF,SVG,SVGZ,BMP",
 "documentInfo": {
  "Title": "C:\\Users\\PLAT MERAH\\Documents\\ArcGIS\\Projects\\CEA_MAP\\CEA_MAP.aprx",
  "Author": "",
  "Comments": "",
  "Subject": "",
  "Category": "",
  "AntialiasingMode": "None",
  "TextAntialiasingMode": "Force",
  "Version": "2.8.0",
  "Keywords": ""
 },
 "supportedQueryFormats": "JSON, geoJSON, PBF",
 "referenceScale": 0.0,
 "supportsDatumTransformation": true,
 "archivingInfo": {
  "supportsHistoricMoment": false
 },
 "supportsClipping": true,
 "supportsSpatialFilter": true,
 "supportsTimeRelation": true,
 "supportsQueryDataElements": true,
 "maxRecordCount": 1000,
 "maxImageHeight": 4096,
 "maxImageWidth": 4096,
 "capabilities": "TilesOnly,Tilemap",
 "minScale": 5.91657527591555E8,
 "maxScale": 0,
 "exportTilesAllowed": true,
 "maxExportTilesCount": 100000,
 "supportedExtensions": "",
 "serviceItemId": "0aa4ce332831408fb54a5276c6299255"
}
